BEGIN:VCALENDAR
VERSION:2.0
PRODID:-//evangelische-termine.de//NONSGML kigkonsult.se iCalcreator 2.18//
CALSCALE:GREGORIAN
METHOD:PUBLISH
X-WR-CALNAME:iCal Evangelische-Termine 25.04.2026
X-WR-CALDESC:iCalender von Evangelische-Termine (25.04.2026)
X-WR-TIMEZONE:Europe/Berlin
X-MS-OLK-FORCEINSPECTOROPEN:TRUE
BEGIN:VTIMEZONE
TZID:Europe/Berlin
BEGIN:STANDARD
DTSTART:19701025T030000
TZOFFSETFROM:+0200
TZOFFSETTO:+0100
RRULE:FREQ=YEARLY;BYDAY=-1SU;BYMONTH=10
TZNAME:CET
END:STANDARD
BEGIN:DAYLIGHT
DTSTART:19700329T020000
TZOFFSETFROM:+0100
TZOFFSETTO:+0200
RRULE:FREQ=YEARLY;BYDAY=-1SU;BYMONTH=3
TZNAME:CEST
END:DAYLIGHT
END:VTIMEZONE
BEGIN:VEVENT
UID:20260802T170000-766140@evangelische-termine.de
DTSTAMP:20260425T201457Z
DESCRIPTION:\nKurzbeschreibung: Großartiger Klezmer von großartigen Künstle
 rn präsentiert!\nVeranstaltungsort: Ev. Kirche Bornim\nRückertstrasse\, 1
 \n14469 Potsdam\nWeitere Informationen/Besondere Hinweise: Harry's Freilac
 h aus Berlin spielt Klezmermusik. Diese Musik ist im Ostjudentum entstande
 n und von osteuropäischen und orientalischen Harmonien und Rhythmen beeinf
 lusst. Die Melodien sind freudig und tänzerisch\, melancholisch-versonnen 
 oder tragisch-expressiv\, manchmal feierlich\, manchmal wüsten-wild\, imme
 r jedoch von einer besonderen Intensität. Zum Programm gehören traditionel
 le Freilachs\, Horas\, Nigunim und chassidische Tänze sowie neuere Komposi
 tionen im Klezmer-Stil.\nMusikalische Kategorie: Orchester / Ensembles\nMi
 twirkende/Interpret(en): Harry Timmermann- Klarinette\, \nSerhiy Lukashov 
 – Akkordeon\nInternetadresse: https://freilach.com/
DTSTART;TZID=Europe/Berlin:20260802T170000
DTEND;TZID=Europe/Berlin:20260802T180000
LOCATION:Potsdam: Ev. Kirche Bornim
SUMMARY:Bornimer Konzert:  Harry's Freilach 'Klezmer tov!'
URL:https://ekbo-termine.de/veranstaltung_im_detail766140.html
END:VEVENT
END:VCALENDAR
