BEGIN:VCALENDAR
VERSION:2.0
PRODID:-//evangelische-termine.de//NONSGML kigkonsult.se iCalcreator 2.18//
CALSCALE:GREGORIAN
METHOD:PUBLISH
X-WR-CALNAME:iCal Evangelische-Termine 21.04.2026
X-WR-CALDESC:iCalender von Evangelische-Termine (21.04.2026)
X-WR-TIMEZONE:Europe/Berlin
X-MS-OLK-FORCEINSPECTOROPEN:TRUE
BEGIN:VTIMEZONE
TZID:Europe/Berlin
BEGIN:STANDARD
DTSTART:19701025T030000
TZOFFSETFROM:+0200
TZOFFSETTO:+0100
RRULE:FREQ=YEARLY;BYDAY=-1SU;BYMONTH=10
TZNAME:CET
END:STANDARD
BEGIN:DAYLIGHT
DTSTART:19700329T020000
TZOFFSETFROM:+0100
TZOFFSETTO:+0200
RRULE:FREQ=YEARLY;BYDAY=-1SU;BYMONTH=3
TZNAME:CEST
END:DAYLIGHT
END:VTIMEZONE
BEGIN:VEVENT
UID:20260708T193000-767862@evangelische-termine.de
DTSTAMP:20260421T201529Z
DESCRIPTION:\nKurzbeschreibung: Wir singen Paul Gerhardt-Lieder und hören T
 exte über ihn und sein Schaffen\nVeranstaltungsort: Gemeindehaus Alt-Panko
 w\nBreite Str. 38\n13187 Berlin\nMitwirkende/Interpret(en): Pfarrerin i.R.
  Ruth Misselwitz\, Kantorin Rudite Livmane\nInternetadresse: https://www.a
 lt-pankow.de\nAnsprechperson: Wolfgang Wendt w.wendt@alt-pankow.de
DTSTART;TZID=Europe/Berlin:20260708T193000
DTEND;TZID=Europe/Berlin:20260708T203000
LOCATION:Berlin: Gemeindehaus Alt-Pankow
SUMMARY:Das singende Bibelgespräch im Gedenken an den 350. Todestag von Pau
 l Gerhardt
URL:https://ekbo-termine.de/veranstaltung_im_detail767862.html
END:VEVENT
END:VCALENDAR
