BEGIN:VCALENDAR
VERSION:2.0
PRODID:-//evangelische-termine.de//NONSGML kigkonsult.se iCalcreator 2.18//
CALSCALE:GREGORIAN
METHOD:PUBLISH
X-WR-CALNAME:iCal Evangelische-Termine 21.04.2026
X-WR-CALDESC:iCalender von Evangelische-Termine (21.04.2026)
X-WR-TIMEZONE:Europe/Berlin
X-MS-OLK-FORCEINSPECTOROPEN:TRUE
BEGIN:VTIMEZONE
TZID:Europe/Berlin
BEGIN:STANDARD
DTSTART:19701025T030000
TZOFFSETFROM:+0200
TZOFFSETTO:+0100
RRULE:FREQ=YEARLY;BYDAY=-1SU;BYMONTH=10
TZNAME:CET
END:STANDARD
BEGIN:DAYLIGHT
DTSTART:19700329T020000
TZOFFSETFROM:+0100
TZOFFSETTO:+0200
RRULE:FREQ=YEARLY;BYDAY=-1SU;BYMONTH=3
TZNAME:CEST
END:DAYLIGHT
END:VTIMEZONE
BEGIN:VEVENT
UID:20260425T000000-769055@evangelische-termine.de
DTSTAMP:20260421T080318Z
DESCRIPTION:\nVeranstaltungsort: Caddy FF EK 69\nSteingasse 1a\n15230 Frank
 furt (Oder)\nInternetadresse: https://landing.churchdesk.com/de/e/47232394
 /konfikurs-exkursion-zur-gedenkstatte-nach-jamlitz
DTSTART;VALUE=DATE:20260425
DTEND;VALUE=DATE:20260426
LOCATION:Frankfurt (Oder): Caddy FF EK 69
SUMMARY:Konfikurs Exkursion zur Gedenkstätte nach Jamlitz
URL:https://ekbo-termine.de/veranstaltung_im_detail769055.html
END:VEVENT
END:VCALENDAR
