BEGIN:VCALENDAR
VERSION:2.0
PRODID:-//evangelische-termine.de//NONSGML kigkonsult.se iCalcreator 2.18//
CALSCALE:GREGORIAN
METHOD:PUBLISH
X-WR-CALNAME:iCal Evangelische-Termine 25.04.2026
X-WR-CALDESC:iCalender von Evangelische-Termine (25.04.2026)
X-WR-TIMEZONE:Europe/Berlin
X-MS-OLK-FORCEINSPECTOROPEN:TRUE
BEGIN:VTIMEZONE
TZID:Europe/Berlin
BEGIN:STANDARD
DTSTART:19701025T030000
TZOFFSETFROM:+0200
TZOFFSETTO:+0100
RRULE:FREQ=YEARLY;BYDAY=-1SU;BYMONTH=10
TZNAME:CET
END:STANDARD
BEGIN:DAYLIGHT
DTSTART:19700329T020000
TZOFFSETFROM:+0100
TZOFFSETTO:+0200
RRULE:FREQ=YEARLY;BYDAY=-1SU;BYMONTH=3
TZNAME:CEST
END:DAYLIGHT
END:VTIMEZONE
BEGIN:VEVENT
UID:20260506T163000-769060@evangelische-termine.de
DTSTAMP:20260425T144342Z
DESCRIPTION:\nVeranstaltungsort: Gemeindehaus Kreuz\nFriedrich-Ebert-Straße
  53\n15234 Frankfurt (Oder)\nInternetadresse: https://landing.churchdesk.c
 om/de/e/47232494/konfikurs-8-klasse-konfiquiz
DTSTART;TZID=Europe/Berlin:20260506T163000
DTEND;TZID=Europe/Berlin:20260506T173000
LOCATION:Frankfurt (Oder): Gemeindehaus Kreuz
SUMMARY:Konfikurs 8. Klasse Konfiquiz
URL:https://ekbo-termine.de/veranstaltung_im_detail769060.html
END:VEVENT
END:VCALENDAR
