BEGIN:VCALENDAR
VERSION:2.0
PRODID:-//evangelische-termine.de//NONSGML kigkonsult.se iCalcreator 2.18//
CALSCALE:GREGORIAN
METHOD:PUBLISH
X-WR-CALNAME:iCal Evangelische-Termine 21.04.2026
X-WR-CALDESC:iCalender von Evangelische-Termine (21.04.2026)
X-WR-TIMEZONE:Europe/Berlin
X-MS-OLK-FORCEINSPECTOROPEN:TRUE
BEGIN:VTIMEZONE
TZID:Europe/Berlin
BEGIN:STANDARD
DTSTART:19701025T030000
TZOFFSETFROM:+0200
TZOFFSETTO:+0100
RRULE:FREQ=YEARLY;BYDAY=-1SU;BYMONTH=10
TZNAME:CET
END:STANDARD
BEGIN:DAYLIGHT
DTSTART:19700329T020000
TZOFFSETFROM:+0100
TZOFFSETTO:+0200
RRULE:FREQ=YEARLY;BYDAY=-1SU;BYMONTH=3
TZNAME:CEST
END:DAYLIGHT
END:VTIMEZONE
BEGIN:VEVENT
UID:20260323T150000-770215@evangelische-termine.de
DTSTAMP:20260421T080303Z
DESCRIPTION:\nVeranstaltungsort: Ev. Kapernaum-Gemeinde\nSeestr. 35\n13353 
 Berlin\nWeitere Informationen/Besondere Hinweise: Macht des Glaubens\nBei 
 der Frage nach der Macht des Glaubens kann es um verschiedene Blickwinkel 
 gehen: etwa darum\, dass „Glaube Berge versetzen kann“\, aber auch um die 
 Kirchengeschichte\, die auch viel mit weltlicher Macht zu tun hatte.\nAber
  Glaube ist ja auch nicht nur etwas Christliches\, weltweit gibt es tausen
 de verschiedene Glaubens-richtungen\, innerhalb und außerhalb von Kirche.
 \nWir werden dieses spannende Thema wie immer so aufgreifen\, dass mitgeda
 cht\, gelacht\, gesungen u.v.m. werden kann.\nAnsprechperson: Ev. Kapernau
 m-Gemeinde kapernaum@web.de\nGemeindebüro\nTelefon: 453 83 35\nFax: 454 12
  95\nÖffnungszeiten: Mo geschlossen\; Die 10 - 14 Uhr\, Mi 10 - 13 Uhr\, D
 o 17 - 19 Uhr\, Fr 10 - 13 Uhr
DTSTART;TZID=Europe/Berlin:20260323T150000
DTEND;TZID=Europe/Berlin:20260323T160000
LOCATION:Berlin: Ev. Kapernaum-Gemeinde
SUMMARY:KuKiK - Kaffee und Kultur in Kapernaum
URL:https://ekbo-termine.de/veranstaltung_im_detail770215.html
END:VEVENT
END:VCALENDAR
