BEGIN:VCALENDAR
VERSION:2.0
PRODID:-//evangelische-termine.de//NONSGML kigkonsult.se iCalcreator 2.18//
CALSCALE:GREGORIAN
METHOD:PUBLISH
X-WR-CALNAME:iCal Evangelische-Termine 19.04.2026
X-WR-CALDESC:iCalender von Evangelische-Termine (19.04.2026)
X-WR-TIMEZONE:Europe/Berlin
X-MS-OLK-FORCEINSPECTOROPEN:TRUE
BEGIN:VTIMEZONE
TZID:Europe/Berlin
BEGIN:STANDARD
DTSTART:19701025T030000
TZOFFSETFROM:+0200
TZOFFSETTO:+0100
RRULE:FREQ=YEARLY;BYDAY=-1SU;BYMONTH=10
TZNAME:CET
END:STANDARD
BEGIN:DAYLIGHT
DTSTART:19700329T020000
TZOFFSETFROM:+0100
TZOFFSETTO:+0200
RRULE:FREQ=YEARLY;BYDAY=-1SU;BYMONTH=3
TZNAME:CEST
END:DAYLIGHT
END:VTIMEZONE
BEGIN:VEVENT
UID:20260427T200000-772526@evangelische-termine.de
DTSTAMP:20260419T174806Z
DESCRIPTION:\nKurzbeschreibung: Den Prozess der Überarbeitung des Textes zu
  beleuchten\, ist spannend und zeigt exemplarisch theologische und gesells
 chaftliche Entwicklungen auf.\nVeranstaltungsort: Sophienkirche\nGr. Hambu
 rger Str.\n10115 Berlin\nWeitere Informationen/Besondere Hinweise: Die Obe
 rammergauer Passionsspiele gehen zurück auf ein Gelübde 1633. Den Grundtex
 t für die heute aufgeführte Fasssung schrieb der Pfarrer Joseph Daisenberg
 er (1799-1883). Doch in den letzten Jahrzehnten wurden immer größere Passa
 gen verändert. Regisseur Christian Stückl.\, Spielleiter seit 1990\, hat v
 iele Textteile völlig neu gefasst und teilweise noch während der Proben um
 formuliert. Dabei hat er sich mit verschiedenen jüdischen Organisationen b
 eraten und neuere Entwicklungen in der biblischen Wissenschaft berücksicht
 igt. Die Inszenierung von 2022 hat den Passionstext erneut überarbeitet in
  der Absicht\, deutlicher darzustellen: Jesus\, der Jude\, hat die Religio
 n der Väter erneuern wollen.\nEintritt: Eintritt frei - Anmeldung erbeten 
 unter fv-sophien@gemeinde-am-weinberg.de\nAnsprechperson: Rudolf Döbler fv
 -sophien@gemeinde-am-weinberg.de\n0173-6442369
DTSTART;TZID=Europe/Berlin:20260427T200000
DTEND;TZID=Europe/Berlin:20260427T210000
LOCATION:Berlin: Sophienkirche
SUMMARY:OBERAMMERGAU - Über den Text des Passionsspiels :: Ergänzende Veran
 staltung zur Literaturlesung am 7. Mai in der Sophienkirche. Vortrag mit P
 farrerin Christine Schlund
URL:https://ekbo-termine.de/veranstaltung_im_detail772526.html
END:VEVENT
END:VCALENDAR
