BEGIN:VCALENDAR
VERSION:2.0
PRODID:-//evangelische-termine.de//NONSGML kigkonsult.se iCalcreator 2.18//
CALSCALE:GREGORIAN
METHOD:PUBLISH
X-WR-CALNAME:iCal Evangelische-Termine 26.04.2026
X-WR-CALDESC:iCalender von Evangelische-Termine (26.04.2026)
X-WR-TIMEZONE:Europe/Berlin
X-MS-OLK-FORCEINSPECTOROPEN:TRUE
BEGIN:VTIMEZONE
TZID:Europe/Berlin
BEGIN:STANDARD
DTSTART:19701025T030000
TZOFFSETFROM:+0200
TZOFFSETTO:+0100
RRULE:FREQ=YEARLY;BYDAY=-1SU;BYMONTH=10
TZNAME:CET
END:STANDARD
BEGIN:DAYLIGHT
DTSTART:19700329T020000
TZOFFSETFROM:+0100
TZOFFSETTO:+0200
RRULE:FREQ=YEARLY;BYDAY=-1SU;BYMONTH=3
TZNAME:CEST
END:DAYLIGHT
END:VTIMEZONE
BEGIN:VEVENT
UID:20260426T170000-773546@evangelische-termine.de
DTSTAMP:20260426T032312Z
DESCRIPTION:\nKurzbeschreibung: für Chor\, Solisten und Barock-Orchester\nV
 eranstaltungsort: Hoffnungskirche Berlin-Pankow\nElsa-Brändström-Straße 33
 \n13189 Berlin\nwww.hoffnungskirche-pankow.de\nWeitere Informationen/Beson
 dere Hinweise: Vorverkauf und Reservierungen unter:\nhttps://forms.churchd
 esk.com/f/XV3XOHLeOu\n\nDie beiden von Bach selbst als Oratorien bezeichne
 ten Jubelwerke zu Ostern (BWV 249) und Himmelfahrt (BWV 11) führen zu Unre
 cht ein Schattendasein neben den anderen Großwerken. Wir freuen uns\, Ihne
 n die zwei sehr selten aufgeführten Werke des Leipziger Meisters wieder zu
  Gehör bringen zu können. Lassen Sie sich mit den jeweils eröffnenden Wort
 en „Kommt\, eilet und laufet“ und „Lobet Gott in seinen Reichen“ zu dieser
  festlichen\, reichhaltigen\, von Bach selbst besonders geschätzten Musik 
 einladen. Vom Oster-Oratorium musizieren wir Bachs letzte der drei überlie
 ferten Fassungen mit dem großen Eingangschor. Beide Werke sind mit einigen
  passenden Chorälen und Arien aus anderen Bach-Kantaten erweitert\, um ein
  abendfüllendes Programm zu erreichen.\nWir musizieren in historischer Auf
 führungspraxis mit einem Barock-Orchester. Die Musik erklingt dadurch in e
 iner Klanggestalt\, die sich derjenigen nähert\, in der die Werke von Bach
  ursprünglich erdacht wurden. Es ist zudem ein Gemeinschafts-Projekt zwisc
 hen unserer Kantorei und dem Händelchor Berlin.\n\nDie Kirche ist auf 17 °
 C beheizt\, ein barrierefreier Zugang ist vorhanden.\nDas Konzert findet m
 it einer Pause statt\, bei der Ihnen unser Getränkestand zur Verfügung ste
 ht.\n\nKonzert-Programm unter:\nhttps://www.mydrive.ch/shares/148724/2820e
 5339280b71a2b432db300f31130/browse\nMusikalische Kategorie: Kantate / Orat
 orium / Passion / Messe\; Chormusik\; Orchester / Ensembles\; Alte Musik /
  Historische Aufführungspraxis\nAufgeführte Werke: Es erklingen das Oster-
  und Himmelfahrts-Oratorium von Johann Sebastian Bach (BWV 249 und BWV 11)
  mit passenden Erweiterungen aus anderen Bach-Kantaten.\nMitwirkende/Inter
 pret(en): Kantorei der Hoffnungskirche Pankow\, Händelchor Berlin\, \nSabi
 ne Hill (Sopran)\, Laura Hemingway (Alt)\, \nKai Roterberg (Tenor)\, Micha
 el Geisler (Bass)\,\nBarock-Orchester\, Tabea Höfer (Konzertmeisterin)\, 
 \nUlrike Triebs (Orgel)\, Sebastian Glöckner (Cembalo)\, \nLeitung: Sabine
  Fenske und Michael Geisler\nEintritt: 15/erm. 10 Euro (Vorverkauf)\, 17/e
 rm. 11 Euro (Reservierung)\, 18/erm. 12 Euro (Abendkasse)\nInternetadresse
 : https://www.hoffnungskirche-pankow.de\nAnsprechperson: Michael Geisler g
 eisler@hoffnungskirche-pankow.de\nTel. 030/44674586\, 0175-8561719
DTSTART;TZID=Europe/Berlin:20260426T170000
DTEND;TZID=Europe/Berlin:20260426T180000
LOCATION:Berlin: Hoffnungskirche Berlin-Pankow
SUMMARY:Oster- & Himmelfahrts-Oratorium von Johann Sebastian Bach :: Konzer
 t im Rahmen der Reihe 'Klänge in Hoffnung'
URL:https://ekbo-termine.de/veranstaltung_im_detail773546.html
END:VEVENT
END:VCALENDAR
