BEGIN:VCALENDAR
VERSION:2.0
PRODID:-//evangelische-termine.de//NONSGML kigkonsult.se iCalcreator 2.18//
CALSCALE:GREGORIAN
METHOD:PUBLISH
X-WR-CALNAME:iCal Evangelische-Termine 20.04.2026
X-WR-CALDESC:iCalender von Evangelische-Termine (20.04.2026)
X-WR-TIMEZONE:Europe/Berlin
X-MS-OLK-FORCEINSPECTOROPEN:TRUE
BEGIN:VTIMEZONE
TZID:Europe/Berlin
BEGIN:STANDARD
DTSTART:19701025T030000
TZOFFSETFROM:+0200
TZOFFSETTO:+0100
RRULE:FREQ=YEARLY;BYDAY=-1SU;BYMONTH=10
TZNAME:CET
END:STANDARD
BEGIN:DAYLIGHT
DTSTART:19700329T020000
TZOFFSETFROM:+0100
TZOFFSETTO:+0200
RRULE:FREQ=YEARLY;BYDAY=-1SU;BYMONTH=3
TZNAME:CEST
END:DAYLIGHT
END:VTIMEZONE
BEGIN:VEVENT
UID:20260509T170000-774241@evangelische-termine.de
DTSTAMP:20260420T034500Z
DESCRIPTION:\nKurzbeschreibung: Kammerchor ChorWerk Potsdam trifft Kammerch
 or I Vocalisti\, Leitung: Hans-Joachim Lustig\nVeranstaltungsort: Friedens
 kirche Potsdam Sanssouci\nAm Grünen Gitter (im Park Sanssouci)\n14469 Pots
 dam\nEintritt: Eintritt frei\, Spende erbeten
DTSTART;TZID=Europe/Berlin:20260509T170000
DTEND;TZID=Europe/Berlin:20260509T180000
LOCATION:Potsdam: Friedenskirche Potsdam Sanssouci
SUMMARY:Benefizkonzert zugunsten der Tafel Potsdam
URL:https://ekbo-termine.de/veranstaltung_im_detail774241.html
END:VEVENT
END:VCALENDAR
