BEGIN:VCALENDAR
VERSION:2.0
PRODID:-//evangelische-termine.de//NONSGML kigkonsult.se iCalcreator 2.18//
CALSCALE:GREGORIAN
METHOD:PUBLISH
X-WR-CALNAME:iCal Evangelische-Termine 22.04.2026
X-WR-CALDESC:iCalender von Evangelische-Termine (22.04.2026)
X-WR-TIMEZONE:Europe/Berlin
X-MS-OLK-FORCEINSPECTOROPEN:TRUE
BEGIN:VTIMEZONE
TZID:Europe/Berlin
BEGIN:STANDARD
DTSTART:19701025T030000
TZOFFSETFROM:+0200
TZOFFSETTO:+0100
RRULE:FREQ=YEARLY;BYDAY=-1SU;BYMONTH=10
TZNAME:CET
END:STANDARD
BEGIN:DAYLIGHT
DTSTART:19700329T020000
TZOFFSETFROM:+0100
TZOFFSETTO:+0200
RRULE:FREQ=YEARLY;BYDAY=-1SU;BYMONTH=3
TZNAME:CEST
END:DAYLIGHT
END:VTIMEZONE
BEGIN:VEVENT
UID:20260628T140000-774718@evangelische-termine.de
DTSTAMP:20260422T105413Z
DESCRIPTION:\nPfarrperson oder Gottesdienstleitung: Pfarrer Andreas Erdmann
 \nVeranstaltungsort: St. Trinitatis Kirche Finsterwalde\nSchlossstraße 4a
 \n03238 Finsterwalde\nAnsprechperson: Pfarrer Andreas Erdmann andreas.erdm
 ann@ekbo.dgs.community
DTSTART;TZID=Europe/Berlin:20260628T140000
DTEND;TZID=Europe/Berlin:20260628T150000
LOCATION:Finsterwalde: St. Trinitatis Kirche Finsterwalde
SUMMARY:Gottesdienst in Gebärdensprache - Online
URL:https://ekbo-termine.de/veranstaltung_im_detail774718.html
END:VEVENT
END:VCALENDAR
