BEGIN:VCALENDAR
VERSION:2.0
PRODID:-//evangelische-termine.de//NONSGML kigkonsult.se iCalcreator 2.18//
CALSCALE:GREGORIAN
METHOD:PUBLISH
X-WR-CALNAME:iCal Evangelische-Termine 19.04.2026
X-WR-CALDESC:iCalender von Evangelische-Termine (19.04.2026)
X-WR-TIMEZONE:Europe/Berlin
X-MS-OLK-FORCEINSPECTOROPEN:TRUE
BEGIN:VTIMEZONE
TZID:Europe/Berlin
BEGIN:STANDARD
DTSTART:19701025T030000
TZOFFSETFROM:+0200
TZOFFSETTO:+0100
RRULE:FREQ=YEARLY;BYDAY=-1SU;BYMONTH=10
TZNAME:CET
END:STANDARD
BEGIN:DAYLIGHT
DTSTART:19700329T020000
TZOFFSETFROM:+0100
TZOFFSETTO:+0200
RRULE:FREQ=YEARLY;BYDAY=-1SU;BYMONTH=3
TZNAME:CEST
END:DAYLIGHT
END:VTIMEZONE
BEGIN:VEVENT
UID:20260419T170000-774854@evangelische-termine.de
DTSTAMP:20260419T132802Z
DESCRIPTION:\nKurzbeschreibung: Kammerchor Fürstenwalde/Spree Geschwister S
 choll e.V.\nVeranstaltungsort: Dom St.-Marien Fürstenwalde/Spree\nDomplatz
  10\n15517 Fürstenwalde/Spree\nDie Domstadt Fürstenwalde/Spree ist über di
 e Autobahn A 12 und die Regionalbahn 1 zu erreichen und liegt zwischen Ber
 lin und Frankfurt (O).\nOffen an 7 Tagen/Woche: Mo bis Fr 10 – 15 Uhr / Sa
 \, So 11 – 16 Uhr\n> Winterzeit: Mo bis Fr 10 – 15 Uhr / Sa\, So\, Feierta
 g 11 – 16 Uhr\n> Sommerzeit: Mo bis Fr 10 – 16 Uhr / Sa\, So\, Feiertag 11
  – 17 Uhr\nWeitere Informationen/Besondere Hinweise: Franz List (1811 - 18
 86)\, österreichisch-ungarischer Komponist\, Pianist\, Dirigent\, Theaterl
 eiter\, Musiklehrer und Schriftsteller veranstaltete während der 'Lisztoma
 nie' 1843 ein großes Konzert in Fürstenwalde.\n\nTheodor Fontane (1819-189
 8)\, Schriftsteller und Journalist und Theaterkritiker hatte Verwandtschaf
 t in Fürstenwalde\, nach ihm ist eine städtische Grundschule benannt.\n\nE
 rfahren Sie mehr über die Künstler und ihre Beziehung zu unserer Stadt dur
 ch Vorträge und Theaterspiel\, umrahmt von Chorgesang.\n\nVeranstalter: Ka
 mmerchor Fürstenwalde/Spree Geschwister Scholl e.V.\nDirigent: Rudolf Tier
 sch\nMusikalische Kategorie: Chormusik\; Musikalisch-Szenisches\; Kammermu
 sik\nEintritt: frei\nAnsprechperson: Pfarrer i.R. Jörg Hemmerling
DTSTART;TZID=Europe/Berlin:20260419T170000
DTEND;TZID=Europe/Berlin:20260419T180000
LOCATION:Fürstenwalde/Spree: Dom St.-Marien Fürstenwalde/Spree
SUMMARY:Lieder - Leute - Lyrik - ein Stück Geschichte in Fürstenwalde
URL:https://ekbo-termine.de/veranstaltung_im_detail774854.html
END:VEVENT
END:VCALENDAR
