BEGIN:VCALENDAR
VERSION:2.0
PRODID:-//evangelische-termine.de//NONSGML kigkonsult.se iCalcreator 2.18//
CALSCALE:GREGORIAN
METHOD:PUBLISH
X-WR-CALNAME:iCal Evangelische-Termine 19.04.2026
X-WR-CALDESC:iCalender von Evangelische-Termine (19.04.2026)
X-WR-TIMEZONE:Europe/Berlin
X-MS-OLK-FORCEINSPECTOROPEN:TRUE
BEGIN:VTIMEZONE
TZID:Europe/Berlin
BEGIN:STANDARD
DTSTART:19701025T030000
TZOFFSETFROM:+0200
TZOFFSETTO:+0100
RRULE:FREQ=YEARLY;BYDAY=-1SU;BYMONTH=10
TZNAME:CET
END:STANDARD
BEGIN:DAYLIGHT
DTSTART:19700329T020000
TZOFFSETFROM:+0100
TZOFFSETTO:+0200
RRULE:FREQ=YEARLY;BYDAY=-1SU;BYMONTH=3
TZNAME:CEST
END:DAYLIGHT
END:VTIMEZONE
BEGIN:VEVENT
UID:20260430T150000-775089@evangelische-termine.de
DTSTAMP:20260419T132523Z
DESCRIPTION:\nVeranstaltungsort: Dom St.-Marien Fürstenwalde/Spree\nDomplat
 z 10\n15517 Fürstenwalde/Spree\nDie Domstadt Fürstenwalde/Spree ist über d
 ie Autobahn A 12 und die Regionalbahn 1 zu erreichen und liegt zwischen Be
 rlin und Frankfurt (O).\nOffen an 7 Tagen/Woche: Mo bis Fr 10 – 15 Uhr / S
 a\, So 11 – 16 Uhr\n> Winterzeit: Mo bis Fr 10 – 15 Uhr / Sa\, So\, Feiert
 ag 11 – 16 Uhr\n> Sommerzeit: Mo bis Fr 10 – 16 Uhr / Sa\, So\, Feiertag 1
 1 – 17 Uhr\nWeitere Informationen/Besondere Hinweise: Das beidseits der Od
 er gelegene Bistum Lebus durchlebte im Laufe der Jahrhunderte eine wechsel
 volle Geschichte. Trotz dessen\, dass die 1124/1125 gegründete Diözese ber
 eits im Jahr 1598 wieder unterging\, ist im Gebiet des einstigen Bistums L
 ebus bis heute ein überraschend reiches und vielgestaltiges kunsthistorisc
 hes und architektonisches Erbe erhalten geblieben. Zwischen den bedeutende
 n Kunstzentren Großpolens\, Schlesiens\, Sachsens\, der Lausitz und der Ma
 rk Brandenburg gelegen\, zeigen die Kirchenbauten des Lebuser Landes und d
 eren Ausstattung eine Vielfalt an Einflüssen. Neben den eindrucksvollen Gr
 oßbauten in Frankfurt (Oder) und Fürstenwalde gibt es im Gebiet des einsti
 gen Lebuser Bistums eindrucksvolle Stadtkirchen\, Templer- und Johanniterb
 auten sowie zahlreiche ländliche Gotteshäuser mit unerwarteten Schätzen zu
  entdecken. Die Wanderausstellung „Kunst- und Architektur im Bistum Lebus.
  Spurensuche in einer enentdeckten Kulturlandschaft“ lädt Sie dazu ein\, d
 ieses bedeutsame kunst- und bauhistorische Erbe zu entdecken.\nEintritt: f
 rei\nAnsprechperson: Pfarrer Kevin Jessa kevin.jessa[at]ekkos.de
DTSTART;TZID=Europe/Berlin:20260430T150000
DTEND;TZID=Europe/Berlin:20260430T160000
LOCATION:Fürstenwalde/Spree: Dom St.-Marien Fürstenwalde/Spree
SUMMARY:Eröffnung der Ausstellung: Kunst und Architektur im BISTUM LEBUS - 
 Spurensuche in einer unentdeckten Kulturlandschaft
URL:https://ekbo-termine.de/veranstaltung_im_detail775089.html
END:VEVENT
END:VCALENDAR
