BEGIN:VCALENDAR
VERSION:2.0
PRODID:-//evangelische-termine.de//NONSGML kigkonsult.se iCalcreator 2.18//
CALSCALE:GREGORIAN
METHOD:PUBLISH
X-WR-CALNAME:iCal Evangelische-Termine 20.04.2026
X-WR-CALDESC:iCalender von Evangelische-Termine (20.04.2026)
X-WR-TIMEZONE:Europe/Berlin
X-MS-OLK-FORCEINSPECTOROPEN:TRUE
BEGIN:VTIMEZONE
TZID:Europe/Berlin
BEGIN:STANDARD
DTSTART:19701025T030000
TZOFFSETFROM:+0200
TZOFFSETTO:+0100
RRULE:FREQ=YEARLY;BYDAY=-1SU;BYMONTH=10
TZNAME:CET
END:STANDARD
BEGIN:DAYLIGHT
DTSTART:19700329T020000
TZOFFSETFROM:+0100
TZOFFSETTO:+0200
RRULE:FREQ=YEARLY;BYDAY=-1SU;BYMONTH=3
TZNAME:CEST
END:DAYLIGHT
END:VTIMEZONE
BEGIN:VEVENT
UID:20260508T180000-775199@evangelische-termine.de
DTSTAMP:20260420T034120Z
DESCRIPTION:\nKurzbeschreibung: Vortrag der Künstlerin über ihre Ausstellun
 g\nVeranstaltungsort: Sternkirche Potsdam\nIm Schäferfeld 1\n14480 Potsdam
 \nTram 92\, 96\nBus 118\, 601\, 618\, 619\, 690\, 694\, 699\nHaltestelle: 
 Potsdam\, Johannes-Kepler-Platz\nWeitere Informationen/Besondere Hinweise:
  'Tabea Vahlenkamp ist Naturfotografin und Lyrikerin. In Bild und Wort etw
 as von der Vielschichtigkeit des Lebens anklingen zu lassen ist die Motiva
 tion hinter ihrem naturfotografischen und lyrischen Schaffen.\nDabei beweg
 t sie sich oft abseits des Spektakulären und sucht Motive\, die über das D
 argestellte hinaus sinnbildhafte Brücken schlagen. Ihre Naturfotografien s
 tellt sie gern mit lyrischen Texten in einen Dialog.' www.creatiphoto.de\n
 Ansprechperson: Gemeindebüro sternkirche@evkirchepotsdam.de\nTel: 0331 622
  085\nFax: 0331 625410\nAngaben zur Barrierefreiheit: Abholung oder Fahrdi
 enst kann bei Bedarf organisiert werden
DTSTART;TZID=Europe/Berlin:20260508T180000
DTEND;TZID=Europe/Berlin:20260508T190000
LOCATION:Potsdam: Sternkirche Potsdam
SUMMARY:Tabea Vahlenkamp: Poetic Stripes
URL:https://ekbo-termine.de/veranstaltung_im_detail775199.html
END:VEVENT
END:VCALENDAR
