BEGIN:VCALENDAR
VERSION:2.0
PRODID:-//evangelische-termine.de//NONSGML kigkonsult.se iCalcreator 2.18//
CALSCALE:GREGORIAN
METHOD:PUBLISH
X-WR-CALNAME:iCal Evangelische-Termine 19.04.2026
X-WR-CALDESC:iCalender von Evangelische-Termine (19.04.2026)
X-WR-TIMEZONE:Europe/Berlin
X-MS-OLK-FORCEINSPECTOROPEN:TRUE
BEGIN:VTIMEZONE
TZID:Europe/Berlin
BEGIN:STANDARD
DTSTART:19701025T030000
TZOFFSETFROM:+0200
TZOFFSETTO:+0100
RRULE:FREQ=YEARLY;BYDAY=-1SU;BYMONTH=10
TZNAME:CET
END:STANDARD
BEGIN:DAYLIGHT
DTSTART:19700329T020000
TZOFFSETFROM:+0100
TZOFFSETTO:+0200
RRULE:FREQ=YEARLY;BYDAY=-1SU;BYMONTH=3
TZNAME:CEST
END:DAYLIGHT
END:VTIMEZONE
BEGIN:VEVENT
UID:20260425T153000-775284@evangelische-termine.de
DTSTAMP:20260419T132513Z
DESCRIPTION:\nPfarrperson oder Gottesdienstleitung: Pfarrerin Rahel Rietzl 
 und Vikarin Ortrun Bertelsmann\nVeranstaltungsort: Kirche Falkenberg\nFalk
 enberg\n15518 Falkenberg bei Briesen\nKürzel für Gottesdienste:  T = Taufe
  \nAnsprechperson: Pfarrerin Rahel Rietzl rahel.rietzl@ekkos.de
DTSTART;TZID=Europe/Berlin:20260425T153000
DTEND;TZID=Europe/Berlin:20260425T163000
LOCATION:Falkenberg bei Briesen: Kirche Falkenberg
SUMMARY:Taufgottesdienst
URL:https://ekbo-termine.de/veranstaltung_im_detail775284.html
END:VEVENT
END:VCALENDAR
