BEGIN:VCALENDAR
VERSION:2.0
PRODID:-//evangelische-termine.de//NONSGML kigkonsult.se iCalcreator 2.18//
CALSCALE:GREGORIAN
METHOD:PUBLISH
X-WR-CALNAME:iCal Evangelische-Termine 19.04.2026
X-WR-CALDESC:iCalender von Evangelische-Termine (19.04.2026)
X-WR-TIMEZONE:Europe/Berlin
X-MS-OLK-FORCEINSPECTOROPEN:TRUE
BEGIN:VTIMEZONE
TZID:Europe/Berlin
BEGIN:STANDARD
DTSTART:19701025T030000
TZOFFSETFROM:+0200
TZOFFSETTO:+0100
RRULE:FREQ=YEARLY;BYDAY=-1SU;BYMONTH=10
TZNAME:CET
END:STANDARD
BEGIN:DAYLIGHT
DTSTART:19700329T020000
TZOFFSETFROM:+0100
TZOFFSETTO:+0200
RRULE:FREQ=YEARLY;BYDAY=-1SU;BYMONTH=3
TZNAME:CEST
END:DAYLIGHT
END:VTIMEZONE
BEGIN:VEVENT
UID:20260425T173000-775285@evangelische-termine.de
DTSTAMP:20260419T132329Z
DESCRIPTION:\nPfarrperson oder Gottesdienstleitung: Pfarrerin Rahel Rietzl
 \nVeranstaltungsort: Kirche Tempelberg\nLindenstraße\n15518 Steinhöfel OT 
 Tempelberg\nKürzel für Gottesdienste:  Ad = Andacht\nAnsprechperson: Pfarr
 erin Rahel Rietzl rahel.rietzl@ekkos.de
DTSTART;TZID=Europe/Berlin:20260425T173000
DTEND;TZID=Europe/Berlin:20260425T183000
LOCATION:Steinhöfel OT Tempelberg: Kirche Tempelberg
SUMMARY:Abendandacht
URL:https://ekbo-termine.de/veranstaltung_im_detail775285.html
END:VEVENT
END:VCALENDAR
