BEGIN:VCALENDAR
VERSION:2.0
PRODID:-//evangelische-termine.de//NONSGML kigkonsult.se iCalcreator 2.18//
CALSCALE:GREGORIAN
METHOD:PUBLISH
X-WR-CALNAME:iCal Evangelische-Termine 19.04.2026
X-WR-CALDESC:iCalender von Evangelische-Termine (19.04.2026)
X-WR-TIMEZONE:Europe/Berlin
X-MS-OLK-FORCEINSPECTOROPEN:TRUE
BEGIN:VTIMEZONE
TZID:Europe/Berlin
BEGIN:STANDARD
DTSTART:19701025T030000
TZOFFSETFROM:+0200
TZOFFSETTO:+0100
RRULE:FREQ=YEARLY;BYDAY=-1SU;BYMONTH=10
TZNAME:CET
END:STANDARD
BEGIN:DAYLIGHT
DTSTART:19700329T020000
TZOFFSETFROM:+0100
TZOFFSETTO:+0200
RRULE:FREQ=YEARLY;BYDAY=-1SU;BYMONTH=3
TZNAME:CEST
END:DAYLIGHT
END:VTIMEZONE
BEGIN:VEVENT
UID:20260426T100000-775287@evangelische-termine.de
DTSTAMP:20260419T132639Z
DESCRIPTION:\nPfarrperson oder Gottesdienstleitung: Pfarrer i.R. Matthias H
 irsch\nVeranstaltungsort: Dom St.-Marien Fürstenwalde/Spree\nDomplatz 10\n
 15517 Fürstenwalde/Spree\nDie Domstadt Fürstenwalde/Spree ist über die Aut
 obahn A 12 und die Regionalbahn 1 zu erreichen und liegt zwischen Berlin u
 nd Frankfurt (O).\nOffen an 7 Tagen/Woche: Mo bis Fr 10 – 15 Uhr / Sa\, So
  11 – 16 Uhr\n> Winterzeit: Mo bis Fr 10 – 15 Uhr / Sa\, So\, Feiertag 11 
 – 16 Uhr\n> Sommerzeit: Mo bis Fr 10 – 16 Uhr / Sa\, So\, Feiertag 11 – 17
  Uhr\nBeschreibung der Kirchenmusik: Posaunenchor\nAnsprechperson: Pfarrer
 in Rahel Rietzl rahel.rietzl@ekkos.de
DTSTART;TZID=Europe/Berlin:20260426T100000
DTEND;TZID=Europe/Berlin:20260426T110000
LOCATION:Fürstenwalde/Spree: Dom St.-Marien Fürstenwalde/Spree
SUMMARY:Gottesdienst mit Posaunenchor
URL:https://ekbo-termine.de/veranstaltung_im_detail775287.html
END:VEVENT
END:VCALENDAR
