BEGIN:VCALENDAR
VERSION:2.0
PRODID:-//evangelische-termine.de//NONSGML kigkonsult.se iCalcreator 2.18//
CALSCALE:GREGORIAN
METHOD:PUBLISH
X-WR-CALNAME:iCal Evangelische-Termine 19.04.2026
X-WR-CALDESC:iCalender von Evangelische-Termine (19.04.2026)
X-WR-TIMEZONE:Europe/Berlin
X-MS-OLK-FORCEINSPECTOROPEN:TRUE
BEGIN:VTIMEZONE
TZID:Europe/Berlin
BEGIN:STANDARD
DTSTART:19701025T030000
TZOFFSETFROM:+0200
TZOFFSETTO:+0100
RRULE:FREQ=YEARLY;BYDAY=-1SU;BYMONTH=10
TZNAME:CET
END:STANDARD
BEGIN:DAYLIGHT
DTSTART:19700329T020000
TZOFFSETFROM:+0100
TZOFFSETTO:+0200
RRULE:FREQ=YEARLY;BYDAY=-1SU;BYMONTH=3
TZNAME:CEST
END:DAYLIGHT
END:VTIMEZONE
BEGIN:VEVENT
UID:20260426T150000-775295@evangelische-termine.de
DTSTAMP:20260419T132504Z
DESCRIPTION:\nPfarrperson oder Gottesdienstleitung: Pfarrer Kevin Jessa\nVe
 ranstaltungsort: Kirche Hangelsberg\nHauptstraße 41\n15537 Hangelsberg\nKü
 rzel für Gottesdienste:  A = Abendmahl im Gottesdienst\nAnsprechperson: Pf
 arrer Kevin Jessa kevin.jessa[at]ekkos.de
DTSTART;TZID=Europe/Berlin:20260426T150000
DTEND;TZID=Europe/Berlin:20260426T160000
LOCATION:Hangelsberg: Kirche Hangelsberg
SUMMARY:Gottesdienst mit Abendmahl
URL:https://ekbo-termine.de/veranstaltung_im_detail775295.html
END:VEVENT
END:VCALENDAR
