BEGIN:VCALENDAR
VERSION:2.0
PRODID:-//evangelische-termine.de//NONSGML kigkonsult.se iCalcreator 2.18//
CALSCALE:GREGORIAN
METHOD:PUBLISH
X-WR-CALNAME:iCal Evangelische-Termine 19.04.2026
X-WR-CALDESC:iCalender von Evangelische-Termine (19.04.2026)
X-WR-TIMEZONE:Europe/Berlin
X-MS-OLK-FORCEINSPECTOROPEN:TRUE
BEGIN:VTIMEZONE
TZID:Europe/Berlin
BEGIN:STANDARD
DTSTART:19701025T030000
TZOFFSETFROM:+0200
TZOFFSETTO:+0100
RRULE:FREQ=YEARLY;BYDAY=-1SU;BYMONTH=10
TZNAME:CET
END:STANDARD
BEGIN:DAYLIGHT
DTSTART:19700329T020000
TZOFFSETFROM:+0100
TZOFFSETTO:+0200
RRULE:FREQ=YEARLY;BYDAY=-1SU;BYMONTH=3
TZNAME:CEST
END:DAYLIGHT
END:VTIMEZONE
BEGIN:VEVENT
UID:20260503T100000-775297@evangelische-termine.de
DTSTAMP:20260419T132726Z
DESCRIPTION:\nKurzbeschreibung: und Domkantorei\nPfarrperson oder Gottesdie
 nstleitung: Pfarrerin Rahel Rietzl\nVeranstaltungsort: Dom St.-Marien Fürs
 tenwalde/Spree\nDomplatz 10\n15517 Fürstenwalde/Spree\nDie Domstadt Fürste
 nwalde/Spree ist über die Autobahn A 12 und die Regionalbahn 1 zu erreiche
 n und liegt zwischen Berlin und Frankfurt (O).\nOffen an 7 Tagen/Woche: Mo
  bis Fr 10 – 15 Uhr / Sa\, So 11 – 16 Uhr\n> Winterzeit: Mo bis Fr 10 – 15
  Uhr / Sa\, So\, Feiertag 11 – 16 Uhr\n> Sommerzeit: Mo bis Fr 10 – 16 Uhr
  / Sa\, So\, Feiertag 11 – 17 Uhr\nKürzel für Gottesdienste:  mKigo = mit 
 Kindergottesdienst (parallel zum Gottesdienst)\nBeschreibung der Kirchenmu
 sik: Domkantorei\nAnsprechperson: Pfarrerin Rahel Rietzl rahel.rietzl@ekko
 s.de
DTSTART;TZID=Europe/Berlin:20260503T100000
DTEND;TZID=Europe/Berlin:20260503T110000
LOCATION:Fürstenwalde/Spree: Dom St.-Marien Fürstenwalde/Spree
SUMMARY:Gottesdienst mit Kindergottesdienst
URL:https://ekbo-termine.de/veranstaltung_im_detail775297.html
END:VEVENT
END:VCALENDAR
