BEGIN:VCALENDAR
VERSION:2.0
PRODID:-//evangelische-termine.de//NONSGML kigkonsult.se iCalcreator 2.18//
CALSCALE:GREGORIAN
METHOD:PUBLISH
X-WR-CALNAME:iCal Evangelische-Termine 25.04.2026
X-WR-CALDESC:iCalender von Evangelische-Termine (25.04.2026)
X-WR-TIMEZONE:Europe/Berlin
X-MS-OLK-FORCEINSPECTOROPEN:TRUE
BEGIN:VTIMEZONE
TZID:Europe/Berlin
BEGIN:STANDARD
DTSTART:19701025T030000
TZOFFSETFROM:+0200
TZOFFSETTO:+0100
RRULE:FREQ=YEARLY;BYDAY=-1SU;BYMONTH=10
TZNAME:CET
END:STANDARD
BEGIN:DAYLIGHT
DTSTART:19700329T020000
TZOFFSETFROM:+0100
TZOFFSETTO:+0200
RRULE:FREQ=YEARLY;BYDAY=-1SU;BYMONTH=3
TZNAME:CEST
END:DAYLIGHT
END:VTIMEZONE
BEGIN:VEVENT
UID:20260801T100000-775927@evangelische-termine.de
DTSTAMP:20260425T201200Z
DESCRIPTION:\nVeranstaltungsort: Gemeindezentrum Finow\nEberswalder Straße 
 70a\n16227 Eberswalde-Finow\nDas Gemeindehaus liegt auf dem Kirchengelände
  direkt neben der Friedenskirche.\nWeitere Informationen/Besondere Hinweis
 e: Eine Spende für die Verpflegung ist willkommen.\nInternetadresse: https
 ://www.kirche-barnim.de/handeln/frauen.html\nAnsprechperson: Pfarrerin Sab
 ine Müller frauen@kirche-barnim.de\nTel.  0152 3686 1819
DTSTART;TZID=Europe/Berlin:20260801T100000
DTEND;TZID=Europe/Berlin:20260801T180000
LOCATION:Eberswalde-Finow: Gemeindezentrum Finow
SUMMARY:Mirjam-Tag für Frauen im Kirchenkreis Barnim
URL:https://ekbo-termine.de/veranstaltung_im_detail775927.html
END:VEVENT
END:VCALENDAR
