BEGIN:VCALENDAR
VERSION:2.0
PRODID:-//evangelische-termine.de//NONSGML kigkonsult.se iCalcreator 2.18//
CALSCALE:GREGORIAN
METHOD:PUBLISH
X-WR-CALNAME:iCal Evangelische-Termine 21.04.2026
X-WR-CALDESC:iCalender von Evangelische-Termine (21.04.2026)
X-WR-TIMEZONE:Europe/Berlin
X-MS-OLK-FORCEINSPECTOROPEN:TRUE
BEGIN:VTIMEZONE
TZID:Europe/Berlin
BEGIN:STANDARD
DTSTART:19701025T030000
TZOFFSETFROM:+0200
TZOFFSETTO:+0100
RRULE:FREQ=YEARLY;BYDAY=-1SU;BYMONTH=10
TZNAME:CET
END:STANDARD
BEGIN:DAYLIGHT
DTSTART:19700329T020000
TZOFFSETFROM:+0100
TZOFFSETTO:+0200
RRULE:FREQ=YEARLY;BYDAY=-1SU;BYMONTH=3
TZNAME:CEST
END:DAYLIGHT
END:VTIMEZONE
BEGIN:VEVENT
UID:20260422T170000-777135@evangelische-termine.de
DTSTAMP:20260420T232409Z
DESCRIPTION:\nKurzbeschreibung: Vortrag und Diskussion mit Privatdozentin P
 fn. Dr. Gerdi Nützel\n\n'Alle Religionen sind gleich und gut\, wenn...' - 
 so begann 1740 die Antwort von Friedrich II. auf eine Anfrage aus Frankfur
 t (Oder). Wie...\nVeranstaltungsort: Heilandskapelle\nEichenweg 41\n15234 
 Frankfurt (Oder)\nWeitere Informationen/Besondere Hinweise: Vortrag und Di
 skussion mit Privatdozentin Pfn. Dr. Gerdi Nützel \n'Alle Religionen sind 
 gleich und gut\, wenn...' - so begann 1740 die Antwort von Friedrich II. a
 uf eine Anfrage aus Frankfurt (Oder). Wie sich die religiöse Vielfalt an S
 akralräumen in Berlin und Brandenburg seit 1671 in fünf Phasen bis in die 
 Gegenwart entwickelt hat und wie wir interreligiöses Zusammenleben heute g
 ut gestalten können\, zeigt Gerdi Nützel in ihrem Vortrag mit vielen Bildb
 eispielen. Dabei spielt auch Frankfurt (Oder) mit der Heilandskapelle eine
  interessante Rolle.  \n Privatdozentin Pfn. Dr. Gerdi Nützel ist Pfarreri
 n für internationale Studierende und Privatdozentin an der HU Berlin für I
 nterkulturelle Theologie.  \nEintritt ist frei\, um Spenden wird gebeten! 
 \n  \n\nInternetadresse: https://landing.churchdesk.com/de/e/48324982/oec-
 grenzgesprach-alle-religionen-sind-gleich-und-gut-wenn
DTSTART;TZID=Europe/Berlin:20260422T170000
DTEND;TZID=Europe/Berlin:20260422T180000
LOCATION:Frankfurt (Oder): Heilandskapelle
SUMMARY:OEC –Grenzgespräch  'Alle Religionen sind gleich und gut\, wenn...'
URL:https://ekbo-termine.de/veranstaltung_im_detail777135.html
END:VEVENT
END:VCALENDAR
